BEGIN:VCALENDAR
VERSION:2.0
PRODID:-//Site de la commune de La Rouvière - ECPv4.9.6//NONSGML v1.0//EN
CALSCALE:GREGORIAN
METHOD:PUBLISH
X-WR-CALNAME:Site de la commune de La Rouvière
X-ORIGINAL-URL:https://www.mairielarouviere.fr
X-WR-CALDESC:Évènements pour Site de la commune de La Rouvière
BEGIN:VTIMEZONE
TZID:"Europe/Paris"
BEGIN:DAYLIGHT
TZOFFSETFROM:+0100
TZOFFSETTO:+0200
TZNAME:CEST
DTSTART:20190331T010000
END:DAYLIGHT
BEGIN:STANDARD
TZOFFSETFROM:+0200
TZOFFSETTO:+0100
TZNAME:CET
DTSTART:20191027T010000
END:STANDARD
END:VTIMEZONE
BEGIN:VEVENT
DTSTART;TZID="Europe/Paris":20191219T120000
DTEND;TZID="Europe/Paris":20191219T130000
DTSTAMP:20260423T201253
CREATED:20191115T130830Z
LAST-MODIFIED:20191115T131431Z
UID:1802-1576756800-1576760400@www.mairielarouviere.fr
SUMMARY:Repas de Noël à l'école
DESCRIPTION:MENU : https://www.mairielarouviere.fr/menus-cantine-octobre-2019/ \n
URL:https://www.mairielarouviere.fr/evenement/repas-de-noel-a-lecole/
END:VEVENT
END:VCALENDAR