BEGIN:VCALENDAR
VERSION:2.0
PRODID:-//Site de la commune de La Rouvière - ECPv4.9.6//NONSGML v1.0//EN
CALSCALE:GREGORIAN
METHOD:PUBLISH
X-WR-CALNAME:Site de la commune de La Rouvière
X-ORIGINAL-URL:https://www.mairielarouviere.fr
X-WR-CALDESC:Évènements pour Site de la commune de La Rouvière
BEGIN:VTIMEZONE
TZID:"Europe/Paris"
BEGIN:DAYLIGHT
TZOFFSETFROM:+0100
TZOFFSETTO:+0200
TZNAME:CEST
DTSTART:20200329T010000
END:DAYLIGHT
BEGIN:STANDARD
TZOFFSETFROM:+0200
TZOFFSETTO:+0100
TZNAME:CET
DTSTART:20201025T010000
END:STANDARD
END:VTIMEZONE
BEGIN:VEVENT
DTSTART;TZID="Europe/Paris":20200117T190000
DTEND;TZID="Europe/Paris":20200119T213000
DTSTAMP:20260423T182444
CREATED:20191216T162327Z
LAST-MODIFIED:20200110T181756Z
UID:2007-1579287600-1579469400@www.mairielarouviere.fr
SUMMARY:Saint Vincent des Leins : les 10 ans !
DESCRIPTION:Evénement exceptionnel\, sous un chapiteau de cirque à Montignargues\, qui a toujours eu lieu en format soirée\, type bar à vin\, un samedi soir\, se transformerait le temps d’un week-end en un événement anniversaire sur 3 jours. \nLa formule proposée « les 10 ans de la Saint Vincent »\n– Le vendredi soir (17/1) une soirée tapas / vin\n– Le samedi midi /18/1) un repas accord mets et vins\, accompagné par des artistes de cirque\n– Le samedi soir une nouvelle soirée tapas / vin\, concert « musiques de cirque »\n– Le dimanche midi un repas accord mets / vins / cirque\n– Le dimanche en début de soirée une animation sophro et vin (atelier dégustation) \nRepas du samedi midi : https://www.helloasso.com/associations/lol-a/evenements/saint-vincent-des-leins-2 \nRepas du dimanche midi : https://www.helloasso.com/associations/lol-a/evenements/accord-mets-vin-dimanche-19-janvier  \nAtelier Sophro & Vin : https://www.helloasso.com/associations/lol-a/evenements/saint-vincent-des-leins \n  \n  \nProjet cofinancé par le Fonds Européen Agricole pour le Développement Rural L’Europe investit dans les zones rurales \n
URL:https://www.mairielarouviere.fr/evenement/saint-vincent-des-leins-les-10-ans/
LOCATION:MONTIGNARGUES\, Montignargues\, 30190
END:VEVENT
BEGIN:VEVENT
DTSTART;TZID="Europe/Paris":20200118T083000
DTEND;TZID="Europe/Paris":20200118T170000
DTSTAMP:20260423T182444
CREATED:20200114T173922Z
LAST-MODIFIED:20200114T173937Z
UID:2064-1579336200-1579366800@www.mairielarouviere.fr
SUMMARY:Formation aux premiers secours (PSC1)
DESCRIPTION:Les sapeurs-pompiers de Saint Geniès de Malgoires et l’Union Départementale des Sapeurs Pompiers du Gard organisent le samedi 18 janvier une formation aux premiers secours (PSC1)\, de 8h30 à 17h à la caserne de Saint-Geniès de Malgoires. \nContact pour renseignements et inscriptions: Yann Prié au 06 20 68 91 59. \n
URL:https://www.mairielarouviere.fr/evenement/formation-aux-premiers-secours-psc1/
END:VEVENT
END:VCALENDAR