BEGIN:VCALENDAR
VERSION:2.0
PRODID:-//Site de la commune de La Rouvière - ECPv4.9.6//NONSGML v1.0//EN
CALSCALE:GREGORIAN
METHOD:PUBLISH
X-WR-CALNAME:Site de la commune de La Rouvière
X-ORIGINAL-URL:https://www.mairielarouviere.fr
X-WR-CALDESC:Évènements pour Site de la commune de La Rouvière
BEGIN:VTIMEZONE
TZID:"Europe/Paris"
BEGIN:DAYLIGHT
TZOFFSETFROM:+0100
TZOFFSETTO:+0200
TZNAME:CEST
DTSTART:20200329T010000
END:DAYLIGHT
BEGIN:STANDARD
TZOFFSETFROM:+0200
TZOFFSETTO:+0100
TZNAME:CET
DTSTART:20201025T010000
END:STANDARD
END:VTIMEZONE
BEGIN:VEVENT
DTSTART;TZID="Europe/Paris":20200129T093000
DTEND;TZID="Europe/Paris":20200129T143000
DTSTAMP:20260423T164117
CREATED:20200113T150704Z
LAST-MODIFIED:20200113T150704Z
UID:2033-1580290200-1580308200@www.mairielarouviere.fr
SUMMARY:Coupure de courant pour travaux
DESCRIPTION:Concerne le mas Vallonguette de 9h30 à 14h30 \n  \nInformation ENEDIS => coupure mas vallonguette \n
URL:https://www.mairielarouviere.fr/evenement/coupure-de-courant-pour-travaux-2/
END:VEVENT
END:VCALENDAR