BEGIN:VCALENDAR
VERSION:2.0
PRODID:-//Site de la commune de La Rouvière - ECPv4.9.6//NONSGML v1.0//EN
CALSCALE:GREGORIAN
METHOD:PUBLISH
X-WR-CALNAME:Site de la commune de La Rouvière
X-ORIGINAL-URL:https://www.mairielarouviere.fr
X-WR-CALDESC:Évènements pour Site de la commune de La Rouvière
BEGIN:VTIMEZONE
TZID:"Europe/Paris"
BEGIN:DAYLIGHT
TZOFFSETFROM:+0100
TZOFFSETTO:+0200
TZNAME:CEST
DTSTART:20200329T010000
END:DAYLIGHT
BEGIN:STANDARD
TZOFFSETFROM:+0200
TZOFFSETTO:+0100
TZNAME:CET
DTSTART:20201025T010000
END:STANDARD
END:VTIMEZONE
BEGIN:VEVENT
DTSTART;TZID="Europe/Paris":20200205T100000
DTEND;TZID="Europe/Paris":20200205T180000
DTSTAMP:20260423T164521
CREATED:20200113T151739Z
LAST-MODIFIED:20200113T151739Z
UID:2039-1580896800-1580925600@www.mairielarouviere.fr
SUMMARY:Bibliothèque
DESCRIPTION:TOUS LES PREMIER ET TROISIÈME MERCREDIS DU MOIS \n10h à 12h \net  \n16h30 à 18h00 \n
URL:https://www.mairielarouviere.fr/evenement/bibliotheque-3-2/
END:VEVENT
END:VCALENDAR