BEGIN:VCALENDAR
VERSION:2.0
PRODID:-//Site de la commune de La Rouvière - ECPv4.9.6//NONSGML v1.0//EN
CALSCALE:GREGORIAN
METHOD:PUBLISH
X-WR-CALNAME:Site de la commune de La Rouvière
X-ORIGINAL-URL:https://www.mairielarouviere.fr
X-WR-CALDESC:Évènements pour Site de la commune de La Rouvière
BEGIN:VTIMEZONE
TZID:"Europe/Paris"
BEGIN:DAYLIGHT
TZOFFSETFROM:+0100
TZOFFSETTO:+0200
TZNAME:CEST
DTSTART:20200329T010000
END:DAYLIGHT
BEGIN:STANDARD
TZOFFSETFROM:+0200
TZOFFSETTO:+0100
TZNAME:CET
DTSTART:20201025T010000
END:STANDARD
END:VTIMEZONE
BEGIN:VEVENT
DTSTART;TZID="Europe/Paris":20200223T160000
DTEND;TZID="Europe/Paris":20200223T170000
DTSTAMP:20260423T164521
CREATED:20200119T204154Z
LAST-MODIFIED:20200204T205006Z
UID:2073-1582473600-1582477200@www.mairielarouviere.fr
SUMMARY:Pestacle  : Tango\, l'ours qui voulait voyager à La Rouvière
DESCRIPTION:Dès 5 ans – Durée 50 min – Cie Les Didascalies \n\nTango est un ours musicien\, chanteur et guitariste\, et l’attraction la plus acclamée du cirque ! Entouré de ses amis … et de Gaston le clown\, notre petit ours épate les yeux et les oreilles de tous chaque soir. Cependant\, depuis tout petit\, Tango rêve de voyager. Il rêve de voir le monde autour de lui et de sortir de la cage dans laquelle il a grandi. Ce qui n’arrange pas les affaires de Monsieur le Directeur… \n
URL:https://www.mairielarouviere.fr/evenement/theatre-tango-lours-qui-voulait-voyager/
END:VEVENT
END:VCALENDAR