BEGIN:VCALENDAR
VERSION:2.0
PRODID:-//Site de la commune de La Rouvière - ECPv4.9.6//NONSGML v1.0//EN
CALSCALE:GREGORIAN
METHOD:PUBLISH
X-WR-CALNAME:Site de la commune de La Rouvière
X-ORIGINAL-URL:https://www.mairielarouviere.fr
X-WR-CALDESC:Évènements pour Site de la commune de La Rouvière
BEGIN:VTIMEZONE
TZID:"Europe/Paris"
BEGIN:DAYLIGHT
TZOFFSETFROM:+0100
TZOFFSETTO:+0200
TZNAME:CEST
DTSTART:20200329T010000
END:DAYLIGHT
BEGIN:STANDARD
TZOFFSETFROM:+0200
TZOFFSETTO:+0100
TZNAME:CET
DTSTART:20201025T010000
END:STANDARD
END:VTIMEZONE
BEGIN:VEVENT
DTSTART;TZID="Europe/Paris":20200421T080000
DTEND;TZID="Europe/Paris":20200610T080000
DTSTAMP:20260423T100222
CREATED:20200421T151312Z
LAST-MODIFIED:20200603T205653Z
UID:2396-1587456000-1591776000@www.mairielarouviere.fr
SUMMARY:Impôts : de l'aide aux particuliers pour remplir la déclaration de revenus
DESCRIPTION:Vous hésitez au moment de remplir votre déclaration de revenus ? \nUne personne de la commune peut assister bénévolement les Rouvièrois qui le souhaitent pour leur déclaration d’impôts sur les revenus 2019. \nLes personnes intéressées devront se faire connaitre en mairie en téléphonant au secrétariat 04.66.81.03.99 uniquement de 9h à 11h du lundi au vendredi en laissant leur nom\, adresse et coordonnées téléphoniques. \n  \n L’opération est gratuite et réservée aux habitants de la commune. Elle débutera le lundi 27 avril. \n
URL:https://www.mairielarouviere.fr/evenement/2396/
END:VEVENT
BEGIN:VEVENT
DTSTART;TZID="Europe/Paris":20200531T080000
DTEND;TZID="Europe/Paris":20200630T170000
DTSTAMP:20260423T100222
CREATED:20200531T130233Z
LAST-MODIFIED:20200604T141430Z
UID:2544-1590912000-1593536400@www.mairielarouviere.fr
SUMMARY:Règlement factures d'eau et assainissement
DESCRIPTION:Communication Eau Nîmes Métropole \nLes factures de solde de la régie communautaire d’eau et d’assainissement\, relatives aux volumes consommés jusqu’au 31 décembre 2019\, ont été adressées à l’ensemble des usagers début avril. \nContrairement à ce qui avait été annoncé précédemment\, le Trésor Public n’est pas en mesure d’envoyer les titres de recettes pour le paiement des factures reçues le mois dernier . \n Il vous faut donc les régler avant le 30 juin par chèque au nom du Trésor Public\, adressé à la Trésorerie de Nîmes Agglomération\, 67 rue Salomon Reinach 30000 Nîmes \n  \n  \n  \n  \n  \n  \n
URL:https://www.mairielarouviere.fr/evenement/reglement-factures-deau-et-assainissement/
END:VEVENT
END:VCALENDAR