BEGIN:VCALENDAR
VERSION:2.0
PRODID:-//Site de la commune de La Rouvière - ECPv4.9.6//NONSGML v1.0//EN
CALSCALE:GREGORIAN
METHOD:PUBLISH
X-WR-CALNAME:Site de la commune de La Rouvière
X-ORIGINAL-URL:https://www.mairielarouviere.fr
X-WR-CALDESC:Évènements pour Site de la commune de La Rouvière
BEGIN:VTIMEZONE
TZID:"Europe/Paris"
BEGIN:DAYLIGHT
TZOFFSETFROM:+0100
TZOFFSETTO:+0200
TZNAME:CEST
DTSTART:20200329T010000
END:DAYLIGHT
BEGIN:STANDARD
TZOFFSETFROM:+0200
TZOFFSETTO:+0100
TZNAME:CET
DTSTART:20201025T010000
END:STANDARD
END:VTIMEZONE
BEGIN:VEVENT
DTSTART;TZID="Europe/Paris":20200704T200000
DTEND;TZID="Europe/Paris":20200704T200000
DTSTAMP:20260423T081421
CREATED:20200212T063126Z
LAST-MODIFIED:20200629T201152Z
UID:2287-1593892800-1593892800@www.mairielarouviere.fr
SUMMARY:Au Caméléon--Restaurant Dîner-Spectacle
DESCRIPTION:Soirée Orientale avec Loly Danse et Cristal \nFormules Dîner Spectacle : 39€ \n  \nProgramme : Au Caméléon \n
URL:https://www.mairielarouviere.fr/evenement/au-cameleon-diner-spectacle-7/
LOCATION:165 Canabières La Rouvière
END:VEVENT
END:VCALENDAR