BEGIN:VCALENDAR
VERSION:2.0
PRODID:-//Site de la commune de La Rouvière - ECPv4.9.6//NONSGML v1.0//EN
CALSCALE:GREGORIAN
METHOD:PUBLISH
X-WR-CALNAME:Site de la commune de La Rouvière
X-ORIGINAL-URL:https://www.mairielarouviere.fr
X-WR-CALDESC:Évènements pour Site de la commune de La Rouvière
BEGIN:VTIMEZONE
TZID:"Europe/Paris"
BEGIN:DAYLIGHT
TZOFFSETFROM:+0100
TZOFFSETTO:+0200
TZNAME:CEST
DTSTART:20200329T010000
END:DAYLIGHT
BEGIN:STANDARD
TZOFFSETFROM:+0200
TZOFFSETTO:+0100
TZNAME:CET
DTSTART:20201025T010000
END:STANDARD
END:VTIMEZONE
BEGIN:VEVENT
DTSTART;TZID="Europe/Paris":20200715T100000
DTEND;TZID="Europe/Paris":20200715T120000
DTSTAMP:20260423T083001
CREATED:20200714T100019Z
LAST-MODIFIED:20200714T112135Z
UID:2541-1594807200-1594814400@www.mairielarouviere.fr
SUMMARY:Bibliothèque
DESCRIPTION:Dernier jour pour faire le plein de livres \nFermeture estivale de la bibliothèque au mois d’août \nRéouverture le mercredi 2 septembre \n  \nHoraires temporaires d’ouvertures : 1er et 3ème mercredi du mois de 10h à 12h \nProtocole d’accès  en conformité avec la situation sanitaire: \n\nAttente à l’extérieur en respectant les règles de distanciation physique (entrée régulée par la bibliothécaire)\n\n\nDéposer les livres en retour dans le bac de mise en quarantaine.\n\n\nPort du masque obligatoire (venir avec son masque)\n\n\nDésinfection des mains après avoir rendu les livres empruntés et avant d’en choisir de nouveaux (gel hydro alcoolique à votre disposition)\n\n\nUne seule personne à la fois pourra faire son choix dans les rayons de la bibliothèque\n \nChoisir son ouvrage\, en évitant si possible de manipuler d’autres livres\n\n\nL’espace jeunesse reste fermé aux enfants jusqu’à nouvel ordre.\n\nIl est indispensable de respecter scrupuleusement ces consignes pour retrouver le plaisir de la lecture sans crainte pour la santé de tous ! \nQue deviennent les livres rendus ? \nAfin d’éviter une éventuelle transmission du virus d’une maison à une autre\, les livres rendus seront mis à l’isolement pendant 1 semaine. Ils seront de retour en rayon et empruntable le mercredi d’ouverture suivant. \nRéouverture progressive bibliothèque-converti \n
URL:https://www.mairielarouviere.fr/evenement/reouverture-bibliotheque/
LOCATION:Bibliothèque\, 7 rue du château d'eau\, La Rouvière\, France
END:VEVENT
END:VCALENDAR