BEGIN:VCALENDAR
VERSION:2.0
PRODID:-//Site de la commune de La Rouvière - ECPv4.9.6//NONSGML v1.0//EN
CALSCALE:GREGORIAN
METHOD:PUBLISH
X-WR-CALNAME:Site de la commune de La Rouvière
X-ORIGINAL-URL:https://www.mairielarouviere.fr
X-WR-CALDESC:Évènements pour Site de la commune de La Rouvière
BEGIN:VTIMEZONE
TZID:"Europe/Paris"
BEGIN:DAYLIGHT
TZOFFSETFROM:+0100
TZOFFSETTO:+0200
TZNAME:CEST
DTSTART:20200329T010000
END:DAYLIGHT
BEGIN:STANDARD
TZOFFSETFROM:+0200
TZOFFSETTO:+0100
TZNAME:CET
DTSTART:20201025T010000
END:STANDARD
END:VTIMEZONE
BEGIN:VEVENT
DTSTART;TZID="Europe/Paris":20200723T063000
DTEND;TZID="Europe/Paris":20200724T180000
DTSTAMP:20260423T082126
CREATED:20200616T090712Z
LAST-MODIFIED:20200616T090712Z
UID:2681-1595485800-1595613600@www.mairielarouviere.fr
SUMMARY:RD 124 -Travaux de reprise de la couche de roulement en enrobés
DESCRIPTION:Le chantier de reprise de la couche de roulement en enrobé de la RD124\, entre La Rouvière et St Geniès de Malgoirès est prévu les 23 et 24 juillet 2020. \n
URL:https://www.mairielarouviere.fr/evenement/rd-124-travaux-de-reprise-de-la-couche-de-roulement-en-enrobes/
END:VEVENT
BEGIN:VEVENT
DTSTART;TZID="Europe/Paris":20200724T220000
DTEND;TZID="Europe/Paris":20200724T233000
DTSTAMP:20260423T082126
CREATED:20200701T201729Z
LAST-MODIFIED:20200701T201729Z
UID:2703-1595628000-1595633400@www.mairielarouviere.fr
SUMMARY:Cinéma plein air à Montignargues
DESCRIPTION: \n
URL:https://www.mairielarouviere.fr/evenement/cinema-plein-air-a-montignargues/
END:VEVENT
END:VCALENDAR