BEGIN:VCALENDAR
VERSION:2.0
PRODID:-//Site de la commune de La Rouvière - ECPv4.9.6//NONSGML v1.0//EN
CALSCALE:GREGORIAN
METHOD:PUBLISH
X-WR-CALNAME:Site de la commune de La Rouvière
X-ORIGINAL-URL:https://www.mairielarouviere.fr
X-WR-CALDESC:Évènements pour Site de la commune de La Rouvière
BEGIN:VTIMEZONE
TZID:"Europe/Paris"
BEGIN:DAYLIGHT
TZOFFSETFROM:+0100
TZOFFSETTO:+0200
TZNAME:CEST
DTSTART:20200329T010000
END:DAYLIGHT
BEGIN:STANDARD
TZOFFSETFROM:+0200
TZOFFSETTO:+0100
TZNAME:CET
DTSTART:20201025T010000
END:STANDARD
END:VTIMEZONE
BEGIN:VEVENT
DTSTART;TZID="Europe/Paris":20200812T190000
DTEND;TZID="Europe/Paris":20200812T230000
DTSTAMP:20260423T064351
CREATED:20200809T144334Z
LAST-MODIFIED:20200809T144618Z
UID:2812-1597258800-1597273200@www.mairielarouviere.fr
SUMMARY:Taureau Piscine - Manade Léron à St Genies de Malgoires
DESCRIPTION:Du 22/07/2020 au 26/08/2020 \nTous les mercredis à partir de 19h  \nLa manade Leron Teissonier vous invite tous les mercredis de l’été à un taureau piscine hautement divertissant et convivial. \nAu programme :\n19h: abrivado\n19h30: buvette vins et bières\n21h: taureau piscine\n22h: apéritif avec Jordan BÉNÉZET \nEntrée : 5€ + 1 consommation (gratuit pour les -10 ans).\nRestauration sur place.\n \n
URL:https://www.mairielarouviere.fr/evenement/taureau-piscine-manade-leron-a-st-genies-de-malgoires/
END:VEVENT
END:VCALENDAR