BEGIN:VCALENDAR
VERSION:2.0
PRODID:-//Site de la commune de La Rouvière - ECPv4.9.6//NONSGML v1.0//EN
CALSCALE:GREGORIAN
METHOD:PUBLISH
X-WR-CALNAME:Site de la commune de La Rouvière
X-ORIGINAL-URL:https://www.mairielarouviere.fr
X-WR-CALDESC:Évènements pour Site de la commune de La Rouvière
BEGIN:VTIMEZONE
TZID:"Europe/Paris"
BEGIN:DAYLIGHT
TZOFFSETFROM:+0100
TZOFFSETTO:+0200
TZNAME:CEST
DTSTART:20200329T010000
END:DAYLIGHT
BEGIN:STANDARD
TZOFFSETFROM:+0200
TZOFFSETTO:+0100
TZNAME:CET
DTSTART:20201025T010000
END:STANDARD
END:VTIMEZONE
BEGIN:VEVENT
DTSTART;TZID="Europe/Paris":20200815T213000
DTEND;TZID="Europe/Paris":20200815T233000
DTSTAMP:20260423T064616
CREATED:20200809T150749Z
LAST-MODIFIED:20200809T150749Z
UID:2818-1597527000-1597534200@www.mairielarouviere.fr
SUMMARY:Cinéma en plein air à Mauressargues
DESCRIPTION:Blanche Neige\, les souliers rouges et les 7 nains \nDerniers films sous les étoiles pour cet été… \nVenez avec votre transat\, un petit plaid pour la fin de soirée et profitez d’une soirée magique en plein air… \n  \n
URL:https://www.mairielarouviere.fr/evenement/cinema-en-plein-air-a-mauressargues/
END:VEVENT
END:VCALENDAR