BEGIN:VCALENDAR
VERSION:2.0
PRODID:-//Site de la commune de La Rouvière - ECPv4.9.6//NONSGML v1.0//EN
CALSCALE:GREGORIAN
METHOD:PUBLISH
X-WR-CALNAME:Site de la commune de La Rouvière
X-ORIGINAL-URL:https://www.mairielarouviere.fr
X-WR-CALDESC:Évènements pour Site de la commune de La Rouvière
BEGIN:VTIMEZONE
TZID:"Europe/Paris"
BEGIN:DAYLIGHT
TZOFFSETFROM:+0100
TZOFFSETTO:+0200
TZNAME:CEST
DTSTART:20200329T010000
END:DAYLIGHT
BEGIN:STANDARD
TZOFFSETFROM:+0200
TZOFFSETTO:+0100
TZNAME:CET
DTSTART:20201025T010000
END:STANDARD
END:VTIMEZONE
BEGIN:VEVENT
DTSTART;TZID="Europe/Paris":20200827T100000
DTEND;TZID="Europe/Paris":20200827T120000
DTSTAMP:20260423T064449
CREATED:20200821T130149Z
LAST-MODIFIED:20200821T130149Z
UID:2927-1598522400-1598529600@www.mairielarouviere.fr
SUMMARY:Informations de rentrée 2020- Ecole La Rouvière
DESCRIPTION:La directrice\, Mme Mouzat\,  tiendra une permanence jeudi 27 août de 10h00 à 12h00 – vendredi 28 août de 10h00 à 12h00 – lundi 31 août de 9h00 à 12h00 et de 14h00 à 17h00 \nUne réunion d’information est proposée aux parents de PS vendredi 28 août à 18h30 dans la cour de l’école \n➕ D’informations : ⬇️⬇️⬇️ \n
URL:https://www.mairielarouviere.fr/evenement/informations-de-rentree-2020-ecole-la-rouviere/
END:VEVENT
BEGIN:VEVENT
DTSTART;TZID="Europe/Paris":20200827T180000
DTEND;TZID="Europe/Paris":20200828T220000
DTSTAMP:20260423T064449
CREATED:20200821T131709Z
LAST-MODIFIED:20200821T131709Z
UID:2934-1598551200-1598652000@www.mairielarouviere.fr
SUMMARY:STATIONNEMENT INTERDIT - PLACE DE LA RÉPUBLIQUE
DESCRIPTION:STATIONNEMENT INTERDIT – PLACE DE LA REPUBLIQUE \nDu jeudi 27 août 2020 à 18h00 au vendredi 28 août 2020 à 22h00 \nEn vue de la taille des platanes \n
URL:https://www.mairielarouviere.fr/evenement/stationnement-interdit-place-de-la-republique/
END:VEVENT
END:VCALENDAR