BEGIN:VCALENDAR
VERSION:2.0
PRODID:-//Site de la commune de La Rouvière - ECPv4.9.6//NONSGML v1.0//EN
CALSCALE:GREGORIAN
METHOD:PUBLISH
X-WR-CALNAME:Site de la commune de La Rouvière
X-ORIGINAL-URL:https://www.mairielarouviere.fr
X-WR-CALDESC:Évènements pour Site de la commune de La Rouvière
BEGIN:VTIMEZONE
TZID:"Europe/Paris"
BEGIN:DAYLIGHT
TZOFFSETFROM:+0100
TZOFFSETTO:+0200
TZNAME:CEST
DTSTART:20200329T010000
END:DAYLIGHT
BEGIN:STANDARD
TZOFFSETFROM:+0200
TZOFFSETTO:+0100
TZNAME:CET
DTSTART:20201025T010000
END:STANDARD
END:VTIMEZONE
BEGIN:VEVENT
DTSTART;TZID="Europe/Paris":20200919T210000
DTEND;TZID="Europe/Paris":20200919T230000
DTSTAMP:20260423T044708
CREATED:20200910T202036Z
LAST-MODIFIED:20200914T073557Z
UID:2258-1600549200-1600556400@www.mairielarouviere.fr
SUMMARY:One Man Show : Anthony Joubert à St Geniès
DESCRIPTION:Anthony n’avait qu’une envie\, devenir humoriste. Un père qui le met dehors\, une copine qui le quitte : plus rien ne le retient. Il décide de faire ses valises direction Paris\, à la rencontre d’une production qui s’intéresse à lui\, et le voilà en tournée. Fini la galère !\nDu moins c’est ce qu’il croyait… \n📢 Programmation culturelle du Syndicat Mixte Leins Gardonnenque \nAnthony JOUBERT se produira finalement à la Halle des Sports de Saint Geniès de Malgoirès et non plus au foyer municipal. Il reste donc des places disponibles en ligne ici : https://www.helloasso.com/associations/lol-a/evenements/anthony-joubert \n  \n
URL:https://www.mairielarouviere.fr/evenement/one-man-show-anthony-joubert-a-st-genies/
END:VEVENT
END:VCALENDAR