BEGIN:VCALENDAR
VERSION:2.0
PRODID:-//Site de la commune de La Rouvière - ECPv4.9.6//NONSGML v1.0//EN
CALSCALE:GREGORIAN
METHOD:PUBLISH
X-WR-CALNAME:Site de la commune de La Rouvière
X-ORIGINAL-URL:https://www.mairielarouviere.fr
X-WR-CALDESC:Évènements pour Site de la commune de La Rouvière
BEGIN:VTIMEZONE
TZID:"Europe/Paris"
BEGIN:DAYLIGHT
TZOFFSETFROM:+0100
TZOFFSETTO:+0200
TZNAME:CEST
DTSTART:20200329T010000
END:DAYLIGHT
BEGIN:STANDARD
TZOFFSETFROM:+0200
TZOFFSETTO:+0100
TZNAME:CET
DTSTART:20201025T010000
END:STANDARD
END:VTIMEZONE
BEGIN:VEVENT
DTSTART;TZID="Europe/Paris":20200922T163000
DTEND;TZID="Europe/Paris":20200922T183000
DTSTAMP:20260423T044719
CREATED:20200921T160007Z
LAST-MODIFIED:20200921T160115Z
UID:3054-1600792200-1600799400@www.mairielarouviere.fr
SUMMARY:La Roulotte à La Rouvière
DESCRIPTION: \n=> infos \nproche du city stade/ vers école \n
URL:https://www.mairielarouviere.fr/evenement/la-roulotte-a-la-rouviere/
END:VEVENT
END:VCALENDAR