BEGIN:VCALENDAR
VERSION:2.0
PRODID:-//Site de la commune de La Rouvière - ECPv4.9.6//NONSGML v1.0//EN
CALSCALE:GREGORIAN
METHOD:PUBLISH
X-WR-CALNAME:Site de la commune de La Rouvière
X-ORIGINAL-URL:https://www.mairielarouviere.fr
X-WR-CALDESC:Évènements pour Site de la commune de La Rouvière
BEGIN:VTIMEZONE
TZID:"Europe/Paris"
BEGIN:DAYLIGHT
TZOFFSETFROM:+0100
TZOFFSETTO:+0200
TZNAME:CEST
DTSTART:20200329T010000
END:DAYLIGHT
BEGIN:STANDARD
TZOFFSETFROM:+0200
TZOFFSETTO:+0100
TZNAME:CET
DTSTART:20201025T010000
END:STANDARD
END:VTIMEZONE
BEGIN:VEVENT
DTSTART;TZID="Europe/Paris":20200925T210000
DTEND;TZID="Europe/Paris":20200925T223000
DTSTAMP:20260423T044621
CREATED:20200911T202325Z
LAST-MODIFIED:20200921T150312Z
UID:2260-1601067600-1601073000@www.mairielarouviere.fr
SUMMARY:One Man Show : Laurent Pit à St Bauzély
DESCRIPTION:Il était une fois dans le sud de la France… C’est en ces termes que pourrait commencer ce spectacle humoristique\, qui retrace une journée de fête dans le petit village camarguais où a grandi le comédien…. \n📢 Programmation culturelle du Syndicat Mixte Leins Gardonnenque \n
URL:https://www.mairielarouviere.fr/evenement/one-man-show-laurent-pit-a-fons/
LOCATION:Foyer St Bauzély\, St Bauzély\, France
END:VEVENT
END:VCALENDAR