BEGIN:VCALENDAR
VERSION:2.0
PRODID:-//Site de la commune de La Rouvière - ECPv4.9.6//NONSGML v1.0//EN
CALSCALE:GREGORIAN
METHOD:PUBLISH
X-WR-CALNAME:Site de la commune de La Rouvière
X-ORIGINAL-URL:https://www.mairielarouviere.fr
X-WR-CALDESC:Évènements pour Site de la commune de La Rouvière
BEGIN:VTIMEZONE
TZID:"Europe/Paris"
BEGIN:DAYLIGHT
TZOFFSETFROM:+0100
TZOFFSETTO:+0200
TZNAME:CEST
DTSTART:20200329T010000
END:DAYLIGHT
BEGIN:STANDARD
TZOFFSETFROM:+0200
TZOFFSETTO:+0100
TZNAME:CET
DTSTART:20201025T010000
END:STANDARD
END:VTIMEZONE
BEGIN:VEVENT
DTSTART;TZID="Europe/Paris":20200926T090000
DTEND;TZID="Europe/Paris":20200927T180000
DTSTAMP:20260423T044620
CREATED:20200809T143635Z
LAST-MODIFIED:20200809T143635Z
UID:2810-1601110800-1601229600@www.mairielarouviere.fr
SUMMARY:Le Gard\, de ferme en ferme
DESCRIPTION:De FERME EN FERME / LES 26 et 27 septembre 2020\nA la Découverte du Territoire et des Producteurs !\nL’événement national « De Ferme en Ferme »\, est un weekend portes ouvertes des exploitations agricoles au cours duquel les agriculteurs proposent des visites commentées gratuites de leur ferme et de leur activité ainsi que des démonstrations\, des dégustations et ventes de produits fermiers.\nDe ferme en ferme \n
URL:https://www.mairielarouviere.fr/evenement/le-gard-de-ferme-en-ferme/
END:VEVENT
END:VCALENDAR