BEGIN:VCALENDAR
VERSION:2.0
PRODID:-//Site de la commune de La Rouvière - ECPv4.9.6//NONSGML v1.0//EN
CALSCALE:GREGORIAN
METHOD:PUBLISH
X-WR-CALNAME:Site de la commune de La Rouvière
X-ORIGINAL-URL:https://www.mairielarouviere.fr
X-WR-CALDESC:Évènements pour Site de la commune de La Rouvière
BEGIN:VTIMEZONE
TZID:"Europe/Paris"
BEGIN:DAYLIGHT
TZOFFSETFROM:+0100
TZOFFSETTO:+0200
TZNAME:CEST
DTSTART:20200329T010000
END:DAYLIGHT
BEGIN:STANDARD
TZOFFSETFROM:+0200
TZOFFSETTO:+0100
TZNAME:CET
DTSTART:20201025T010000
END:STANDARD
END:VTIMEZONE
BEGIN:VEVENT
DTSTART;TZID="Europe/Paris":20201003T193000
DTEND;TZID="Europe/Paris":20201003T233000
DTSTAMP:20260423T044459
CREATED:20200629T202824Z
LAST-MODIFIED:20200921T161228Z
UID:2697-1601753400-1601767800@www.mairielarouviere.fr
SUMMARY:Au Caméléon--Cabaret avec dîner spectacle
DESCRIPTION:Formule Dîner Spectacle  (Kir de bienvenue\, entrée\, plat\, dessert ) 39€ (hors soirées spéciales) \nProgramme : Au Caméléon \nRéservations obligatoires \n
URL:https://www.mairielarouviere.fr/evenement/au-cameleon-soiree-imaginair-magicien-mentaliste-acrobate/
LOCATION:165 Canabières La Rouvière
END:VEVENT
END:VCALENDAR