BEGIN:VCALENDAR
VERSION:2.0
PRODID:-//Site de la commune de La Rouvière - ECPv4.9.6//NONSGML v1.0//EN
CALSCALE:GREGORIAN
METHOD:PUBLISH
X-WR-CALNAME:Site de la commune de La Rouvière
X-ORIGINAL-URL:https://www.mairielarouviere.fr
X-WR-CALDESC:Évènements pour Site de la commune de La Rouvière
BEGIN:VTIMEZONE
TZID:"Europe/Paris"
BEGIN:DAYLIGHT
TZOFFSETFROM:+0100
TZOFFSETTO:+0200
TZNAME:CEST
DTSTART:20200329T010000
END:DAYLIGHT
BEGIN:STANDARD
TZOFFSETFROM:+0200
TZOFFSETTO:+0100
TZNAME:CET
DTSTART:20201025T010000
END:STANDARD
END:VTIMEZONE
BEGIN:VEVENT
DTSTART;TZID="Europe/Paris":20201004T090000
DTEND;TZID="Europe/Paris":20201004T130000
DTSTAMP:20260423T030029
CREATED:20200930T184144Z
LAST-MODIFIED:20200930T184144Z
UID:3086-1601802000-1601816400@www.mairielarouviere.fr
SUMMARY:17e fête de la Conf' !
DESCRIPTION: \nComme chaque année\, cette fête conjugue un marché paysan et un forum militant\, avec toutefois un horaire raccourci et l’annulation du traditionnel repas du fait des circonstances. Le programme est construit sur un thème qui tient particulièrement à cœur à bon nombre d’entre nous : l’élevage paysan. \nAu menu de cette journée : \n\nmarché paysan\nvillage associatif\nà 10h30\, débat sur l’élevage paysan avec Nicolas Girod\, porte-parole de la Conf nationale\ndégustation de vin après le débat pour choisir quelle sera la cuvée de la Conf’\nanimaux\nbuvette\n\nInfos pratiques  \n
URL:https://www.mairielarouviere.fr/evenement/17e-fete-de-la-conf/
END:VEVENT
BEGIN:VEVENT
DTSTART;TZID="Europe/Paris":20201004T120000
DTEND;TZID="Europe/Paris":20201004T160000
DTSTAMP:20260423T030029
CREATED:20200921T161806Z
LAST-MODIFIED:20200921T162506Z
UID:3059-1601812800-1601827200@www.mairielarouviere.fr
SUMMARY:Au Caméléon--Cabaret avec dîner spectacle
DESCRIPTION:Formule Dîner Spectacle  (Kir de bienvenue\, entrée\, plat\, dessert ) 39€ (hors soirées spéciales) \nProgramme : Au Caméléon \nRéservations obligatoires \n
URL:https://www.mairielarouviere.fr/evenement/au-cameleon-cabaret-avec-diner-spectacle/
LOCATION:165 Canabières La Rouvière
END:VEVENT
END:VCALENDAR