BEGIN:VCALENDAR
VERSION:2.0
PRODID:-//Site de la commune de La Rouvière - ECPv4.9.6//NONSGML v1.0//EN
CALSCALE:GREGORIAN
METHOD:PUBLISH
X-WR-CALNAME:Site de la commune de La Rouvière
X-ORIGINAL-URL:https://www.mairielarouviere.fr
X-WR-CALDESC:Évènements pour Site de la commune de La Rouvière
BEGIN:VTIMEZONE
TZID:"Europe/Paris"
BEGIN:DAYLIGHT
TZOFFSETFROM:+0100
TZOFFSETTO:+0200
TZNAME:CEST
DTSTART:20200329T010000
END:DAYLIGHT
BEGIN:STANDARD
TZOFFSETFROM:+0200
TZOFFSETTO:+0100
TZNAME:CET
DTSTART:20201025T010000
END:STANDARD
END:VTIMEZONE
BEGIN:VEVENT
DTSTART;TZID="Europe/Paris":20201006T163000
DTEND;TZID="Europe/Paris":20201006T183000
DTSTAMP:20260423T030028
CREATED:20201005T075942Z
LAST-MODIFIED:20201005T075942Z
UID:3091-1602001800-1602009000@www.mairielarouviere.fr
SUMMARY:La Ludothèque La Roulotte sera à La Rouvière
DESCRIPTION:Proche du city stade/ vers l’école \n \n  \n
URL:https://www.mairielarouviere.fr/evenement/la-ludotheque-la-roulotte-sera-a-la-rouviere/
END:VEVENT
END:VCALENDAR