BEGIN:VCALENDAR
VERSION:2.0
PRODID:-//Site de la commune de La Rouvière - ECPv4.9.6//NONSGML v1.0//EN
CALSCALE:GREGORIAN
METHOD:PUBLISH
X-WR-CALNAME:Site de la commune de La Rouvière
X-ORIGINAL-URL:https://www.mairielarouviere.fr
X-WR-CALDESC:Évènements pour Site de la commune de La Rouvière
BEGIN:VTIMEZONE
TZID:"Europe/Paris"
BEGIN:DAYLIGHT
TZOFFSETFROM:+0100
TZOFFSETTO:+0200
TZNAME:CEST
DTSTART:20200329T010000
END:DAYLIGHT
BEGIN:STANDARD
TZOFFSETFROM:+0200
TZOFFSETTO:+0100
TZNAME:CET
DTSTART:20201025T010000
END:STANDARD
END:VTIMEZONE
BEGIN:VEVENT
DTSTART;TZID="Europe/Paris":20201007T100000
DTEND;TZID="Europe/Paris":20201007T120000
DTSTAMP:20260423T030121
CREATED:20200913T193733Z
LAST-MODIFIED:20200913T193733Z
UID:2978-1602064800-1602072000@www.mairielarouviere.fr
SUMMARY:Bibliothèque
DESCRIPTION:Beaucoup de nouveaux livres ! \nport du masque obligatoire en lieu clos\, les bibliothécaires et les adultes doivent porter un masque\, celui-ci n’est pas obligatoire  pour les moins de 11 ans. \nHoraires temporaires d’ouvertures : 1er et 3ème mercredi du mois de 10h à 12h \nProtocole d’accès  en conformité avec la situation sanitaire: \n\nAttente à l’extérieur en respectant les règles de distanciation physique (entrée régulée par la bibliothécaire)\n\n\nDéposer les livres en retour dans le bac de mise en quarantaine.\n\n\nPort du masque obligatoire (venir avec son masque)\n\n\nDésinfection des mains après avoir rendu les livres empruntés et avant d’en choisir de nouveaux (gel hydro alcoolique à votre disposition)\n\n\n \n\nIl est indispensable de respecter scrupuleusement ces consignes pour retrouver le plaisir de la lecture sans crainte pour la santé de tous ! \nQue deviennent les livres rendus ? \nAfin d’éviter une éventuelle transmission du virus d’une maison à une autre\, les livres rendus seront mis à l’isolement pendant 1 semaine. Ils seront de retour en rayon et empruntables le mercredi d’ouverture suivant. \n
URL:https://www.mairielarouviere.fr/evenement/bibliotheque-2/
LOCATION:Bibliothèque\, 7 rue du château d'eau\, La Rouvière\, France
END:VEVENT
END:VCALENDAR