BEGIN:VCALENDAR
VERSION:2.0
PRODID:-//Site de la commune de La Rouvière - ECPv4.9.6//NONSGML v1.0//EN
CALSCALE:GREGORIAN
METHOD:PUBLISH
X-WR-CALNAME:Site de la commune de La Rouvière
X-ORIGINAL-URL:https://www.mairielarouviere.fr
X-WR-CALDESC:Évènements pour Site de la commune de La Rouvière
BEGIN:VTIMEZONE
TZID:"Europe/Paris"
BEGIN:DAYLIGHT
TZOFFSETFROM:+0100
TZOFFSETTO:+0200
TZNAME:CEST
DTSTART:20200329T010000
END:DAYLIGHT
BEGIN:STANDARD
TZOFFSETFROM:+0200
TZOFFSETTO:+0100
TZNAME:CET
DTSTART:20201025T010000
END:STANDARD
END:VTIMEZONE
BEGIN:VEVENT
DTSTART;VALUE=DATE:20201017
DTEND;VALUE=DATE:20201018
DTSTAMP:20260423T030029
CREATED:20201013T174057Z
LAST-MODIFIED:20201013T174057Z
UID:3110-1602892800-1602979199@www.mairielarouviere.fr
SUMMARY:Fin de la saison de natation du bassin de Sauzet
DESCRIPTION:https://www.facebook.com/PiscineSauzet/posts/670123580356411 \nLa saison 2020 se terminera le 17 octobre prochain. \nMerci pour votre soutien\, car si le bassin de natation dont nous gérons l’organisation et l’entretien avec les syndicat mixte Leins Gardonnenque\, est moins populaire que d’autres activités sportives\, il répond cependant à des besoins très importants pour les enfants et les adultes. \nLutter contre les noyades passe par l’apprentissage de la natation. C’est ce que nous proposons depuis 44 ans à Sauzet (enfin on n’y était pas tous depuis le début ☺). \nNous avons un outil merveilleux proche et accessible à tous\, ce serait dommage de ne pas le faire savoir. \n
URL:https://www.mairielarouviere.fr/evenement/fin-de-la-saison-de-natation-du-bassin-de-sauzet/
END:VEVENT
BEGIN:VEVENT
DTSTART;TZID="Europe/Paris":20201017T193000
DTEND;TZID="Europe/Paris":20201017T230000
DTSTAMP:20260423T030029
CREATED:20200921T161904Z
LAST-MODIFIED:20200921T162611Z
UID:3061-1602963000-1602975600@www.mairielarouviere.fr
SUMMARY:Au Caméléon--Cabaret avec dîner spectacle
DESCRIPTION:Formule Dîner Spectacle  (Kir de bienvenue\, entrée\, plat\, dessert ) 39€ (hors soirées spéciales) \nProgramme : Au Caméléon \nRéservations obligatoires \n
URL:https://www.mairielarouviere.fr/evenement/au-cameleon-cabaret-avec-diner-spectacle-2/
LOCATION:165 Canabières La Rouvière
END:VEVENT
END:VCALENDAR