BEGIN:VCALENDAR
VERSION:2.0
PRODID:-//Site de la commune de La Rouvière - ECPv4.9.6//NONSGML v1.0//EN
CALSCALE:GREGORIAN
METHOD:PUBLISH
X-WR-CALNAME:Site de la commune de La Rouvière
X-ORIGINAL-URL:https://www.mairielarouviere.fr
X-WR-CALDESC:Évènements pour Site de la commune de La Rouvière
BEGIN:VTIMEZONE
TZID:"Europe/Paris"
BEGIN:DAYLIGHT
TZOFFSETFROM:+0100
TZOFFSETTO:+0200
TZNAME:CEST
DTSTART:20200329T010000
END:DAYLIGHT
BEGIN:STANDARD
TZOFFSETFROM:+0200
TZOFFSETTO:+0100
TZNAME:CET
DTSTART:20201025T010000
END:STANDARD
END:VTIMEZONE
BEGIN:VEVENT
DTSTART;TZID="Europe/Paris":20201126T080000
DTEND;TZID="Europe/Paris":20201126T133000
DTSTAMP:20260423T011243
CREATED:20201124T083959Z
LAST-MODIFIED:20201124T083959Z
UID:3233-1606377600-1606397400@www.mairielarouviere.fr
SUMMARY:Coupure d'eau : jeudi 26/11 de 8h à 13h30
DESCRIPTION:Nous vous informons que dans le cadre du lavage du château d’eau de votre commune\, nous ne pouvons éviter les manques d’eau sur l’intégralité de La Rouvière le temps de l’intervention. \nUne coupure d’eau est donc prévue le jeudi 26/11 de 8h à 13h30. \nUne campagne d’appel téléphonique pour informer les abonnées est programmée pour lundi à 13h30.  \nAFFICHE COUPURE D’EAU \n
URL:https://www.mairielarouviere.fr/evenement/coupure-deau-jeudi-26-11-de-8h-a-13h30/
END:VEVENT
END:VCALENDAR