BEGIN:VCALENDAR
VERSION:2.0
PRODID:-//Site de la commune de La Rouvière - ECPv4.9.6//NONSGML v1.0//EN
CALSCALE:GREGORIAN
METHOD:PUBLISH
X-WR-CALNAME:Site de la commune de La Rouvière
X-ORIGINAL-URL:https://www.mairielarouviere.fr
X-WR-CALDESC:Évènements pour Site de la commune de La Rouvière
BEGIN:VTIMEZONE
TZID:"Europe/Paris"
BEGIN:DAYLIGHT
TZOFFSETFROM:+0100
TZOFFSETTO:+0200
TZNAME:CEST
DTSTART:20210328T010000
END:DAYLIGHT
BEGIN:STANDARD
TZOFFSETFROM:+0200
TZOFFSETTO:+0100
TZNAME:CET
DTSTART:20211031T010000
END:STANDARD
END:VTIMEZONE
BEGIN:VEVENT
DTSTART;TZID="Europe/Paris":20210507T163000
DTEND;TZID="Europe/Paris":20210507T184500
DTSTAMP:20260422T144739
CREATED:20210504T184913Z
LAST-MODIFIED:20210504T185558Z
UID:3468-1620405000-1620413100@www.mairielarouviere.fr
SUMMARY:Inscriptions piscine de Sauzet
DESCRIPTION:Lien renseignements \nac.gardonnenque@gmail.com \nSite de la piscine :  www.piscine-sauzet.fr \n
URL:https://www.mairielarouviere.fr/evenement/inscriptions-piscine-de-sauzet/
END:VEVENT
END:VCALENDAR