BEGIN:VCALENDAR
VERSION:2.0
PRODID:-//Site de la commune de La Rouvière - ECPv4.9.6//NONSGML v1.0//EN
CALSCALE:GREGORIAN
METHOD:PUBLISH
X-WR-CALNAME:Site de la commune de La Rouvière
X-ORIGINAL-URL:https://www.mairielarouviere.fr
X-WR-CALDESC:Évènements pour Site de la commune de La Rouvière
BEGIN:VTIMEZONE
TZID:"Europe/Paris"
BEGIN:DAYLIGHT
TZOFFSETFROM:+0100
TZOFFSETTO:+0200
TZNAME:CEST
DTSTART:20210328T010000
END:DAYLIGHT
BEGIN:STANDARD
TZOFFSETFROM:+0200
TZOFFSETTO:+0100
TZNAME:CET
DTSTART:20211031T010000
END:STANDARD
END:VTIMEZONE
BEGIN:VEVENT
DTSTART;TZID="Europe/Paris":20210511T183000
DTEND;TZID="Europe/Paris":20210511T203000
DTSTAMP:20260422T144812
CREATED:20210505T190150Z
LAST-MODIFIED:20210505T190150Z
UID:3493-1620757800-1620765000@www.mairielarouviere.fr
SUMMARY:Réunion Conseil Municipal
DESCRIPTION:Le conseil municipal se réunira \, le mardi 11 mai à 18h30\, au foyer municipal\, à huis clos. \nÀ l’ordre du jour : travaux renouvellement des réseaux humides\, travaux de mise en sécurité de l’aire de jeux de l’école et choix des jeux d’enfants pour l’aire du foyer\, projet de la matinée éco-nettoyage\, projet jardins partagés\, préparation élections régionales et départementales\, acquisition illuminations noël. \n
URL:https://www.mairielarouviere.fr/evenement/reunion-conseil-municipal-2/
LOCATION:Foyer socio-culturel La Rouvière\, LA ROUVIERE\, 30190\, France
END:VEVENT
END:VCALENDAR