BEGIN:VCALENDAR
VERSION:2.0
PRODID:-//Site de la commune de La Rouvière - ECPv4.9.6//NONSGML v1.0//EN
CALSCALE:GREGORIAN
METHOD:PUBLISH
X-WR-CALNAME:Site de la commune de La Rouvière
X-ORIGINAL-URL:https://www.mairielarouviere.fr
X-WR-CALDESC:Évènements pour Site de la commune de La Rouvière
BEGIN:VTIMEZONE
TZID:"Europe/Paris"
BEGIN:DAYLIGHT
TZOFFSETFROM:+0100
TZOFFSETTO:+0200
TZNAME:CEST
DTSTART:20210328T010000
END:DAYLIGHT
BEGIN:STANDARD
TZOFFSETFROM:+0200
TZOFFSETTO:+0100
TZNAME:CET
DTSTART:20211031T010000
END:STANDARD
END:VTIMEZONE
BEGIN:VEVENT
DTSTART;TZID="Europe/Paris":20210520T050000
DTEND;TZID="Europe/Paris":20210520T120000
DTSTAMP:20260422T144709
CREATED:20210120T151316Z
LAST-MODIFIED:20210120T151316Z
UID:3336-1621486800-1621512000@www.mairielarouviere.fr
SUMMARY:Collecte des encombrants
DESCRIPTION:Modalités et calendrier : https://www.mairielarouviere.fr/collecte-des-encombrants/ \n
URL:https://www.mairielarouviere.fr/evenement/collecte-des-encombrants-11/
END:VEVENT
END:VCALENDAR