BEGIN:VCALENDAR
VERSION:2.0
PRODID:-//Site de la commune de La Rouvière - ECPv4.9.6//NONSGML v1.0//EN
CALSCALE:GREGORIAN
METHOD:PUBLISH
X-WR-CALNAME:Site de la commune de La Rouvière
X-ORIGINAL-URL:https://www.mairielarouviere.fr
X-WR-CALDESC:Évènements pour Site de la commune de La Rouvière
BEGIN:VTIMEZONE
TZID:"Europe/Paris"
BEGIN:DAYLIGHT
TZOFFSETFROM:+0100
TZOFFSETTO:+0200
TZNAME:CEST
DTSTART:20210328T010000
END:DAYLIGHT
BEGIN:STANDARD
TZOFFSETFROM:+0200
TZOFFSETTO:+0100
TZNAME:CET
DTSTART:20211031T010000
END:STANDARD
END:VTIMEZONE
BEGIN:VEVENT
DTSTART;VALUE=DATE:20210606
DTEND;VALUE=DATE:20210607
DTSTAMP:20260422T125844
CREATED:20210505T190825Z
LAST-MODIFIED:20210527T084750Z
UID:3495-1622937600-1623023999@www.mairielarouviere.fr
SUMMARY:Vide Grenier
DESCRIPTION:L’Association Culture & Loisirs La Rouvière organise son 1er \nVIDE GRENIER \nDIMANCHE 6 JUIN de 7H00 à 17h00 \nCentre du village de La Rouvière \n  \nRéservé aux particuliers \nEmplacement :  3 mètres à 7€ | 6 mètres à 12€ \nRéservation obligatoire :  06 80 02 82 07 ou 06 87 51 99 42 \nIMPORTANT:  \n\nInstallations de 6h00 à 7h30 maximum. Départ : 17h maximum\nRemplir une attestation à l’arrivée + prévoir Photocopie recto verso de votre pièce d’identité\nNous demandons de laisser le terrain propre et de ramener les ordures avec vous!\nLes gestes barrières sont à respecter\, port du masque et gel hydroalcoolique obligatoire pour les exposants et visiteurs.\n\n\n
URL:https://www.mairielarouviere.fr/evenement/vide-greniers/
END:VEVENT
END:VCALENDAR