BEGIN:VCALENDAR
VERSION:2.0
PRODID:-//Site de la commune de La Rouvière - ECPv4.9.6//NONSGML v1.0//EN
CALSCALE:GREGORIAN
METHOD:PUBLISH
X-WR-CALNAME:Site de la commune de La Rouvière
X-ORIGINAL-URL:https://www.mairielarouviere.fr
X-WR-CALDESC:Évènements pour Site de la commune de La Rouvière
BEGIN:VTIMEZONE
TZID:"Europe/Paris"
BEGIN:DAYLIGHT
TZOFFSETFROM:+0100
TZOFFSETTO:+0200
TZNAME:CEST
DTSTART:20210328T010000
END:DAYLIGHT
BEGIN:STANDARD
TZOFFSETFROM:+0200
TZOFFSETTO:+0100
TZNAME:CET
DTSTART:20211031T010000
END:STANDARD
END:VTIMEZONE
BEGIN:VEVENT
DTSTART;TZID="Europe/Paris":20210703T190000
DTEND;TZID="Europe/Paris":20210703T233000
DTSTAMP:20260424T085352
CREATED:20210629T161252Z
LAST-MODIFIED:20210629T162036Z
UID:3615-1625338800-1625355000@www.mairielarouviere.fr
SUMMARY:SOIREE CINEMA DES VIGNERONS INDEPENDANTS
DESCRIPTION:L’évolution des conditions sanitaires nous permet enfin de programmer des évènements au Domaine des Loubatières. \n          C’est donc avec un grand plaisir que nous allons pouvoir vous accueillir  Le samedi 3 juillet à partir de 19h \net projeter\, comme nous le faisions chaque année avant la période COVID\,  \nles 6 courts métrages sélectionnés par les Vignerons Indépendants du Gard pour la saison 2021. \nEn attendant la projection à la tombée de la nuit\, nous vous proposons de partager un repas convivial assis à table dans la cour du Domaine\, \ncomme l’imposent les règles sanitaires actuellement en vigueur. \nPAËLLA – FROMAGE – PANNA COTTA pour 16€ \nLe nombre de places étant limité il est nécessaire de réserver au 06 11 02 22 08 \nSite Web :https://www.domaine-des-loubatieres.com/ \n  \n Au plaisir de vous revoir prochainement \n  \nChristel et Delphine Guiraud   \n \n
URL:https://www.mairielarouviere.fr/evenement/soiree-cinema-des-vignerons-independants/
END:VEVENT
END:VCALENDAR