BEGIN:VCALENDAR
VERSION:2.0
PRODID:-//Site de la commune de La Rouvière - ECPv4.9.6//NONSGML v1.0//EN
CALSCALE:GREGORIAN
METHOD:PUBLISH
X-WR-CALNAME:Site de la commune de La Rouvière
X-ORIGINAL-URL:https://www.mairielarouviere.fr
X-WR-CALDESC:Évènements pour Site de la commune de La Rouvière
BEGIN:VTIMEZONE
TZID:"Europe/Paris"
BEGIN:DAYLIGHT
TZOFFSETFROM:+0100
TZOFFSETTO:+0200
TZNAME:CEST
DTSTART:20210328T010000
END:DAYLIGHT
BEGIN:STANDARD
TZOFFSETFROM:+0200
TZOFFSETTO:+0100
TZNAME:CET
DTSTART:20211031T010000
END:STANDARD
END:VTIMEZONE
BEGIN:VEVENT
DTSTART;TZID="Europe/Paris":20210919T083000
DTEND;TZID="Europe/Paris":20210919T120000
DTSTAMP:20260423T091523
CREATED:20210831T140056Z
LAST-MODIFIED:20210831T140244Z
UID:3875-1632040200-1632052800@www.mairielarouviere.fr
SUMMARY:Sortie Cyclisme
DESCRIPTION: \n
URL:https://www.mairielarouviere.fr/evenement/sortie-cyclisme/
END:VEVENT
BEGIN:VEVENT
DTSTART;TZID="Europe/Paris":20210919T120000
DTEND;TZID="Europe/Paris":20210919T150000
DTSTAMP:20260423T091523
CREATED:20210806T164237Z
LAST-MODIFIED:20210806T165433Z
UID:3746-1632052800-1632063600@www.mairielarouviere.fr
SUMMARY:AU CAMELEON-Déjeuner-Spectacle
DESCRIPTION:  \n \nAu Caméléon \nFacebook-Au Caméléon \nInformations et réservations : 06 17 40 10 34—09 71 58 84 23 \n
URL:https://www.mairielarouviere.fr/evenement/au-cameleon-diner-spectacle-5/
LOCATION:165 Canabières La Rouvière
END:VEVENT
END:VCALENDAR