BEGIN:VCALENDAR
VERSION:2.0
PRODID:-//Site de la commune de La Rouvière - ECPv4.9.6//NONSGML v1.0//EN
CALSCALE:GREGORIAN
METHOD:PUBLISH
X-WR-CALNAME:Site de la commune de La Rouvière
X-ORIGINAL-URL:https://www.mairielarouviere.fr
X-WR-CALDESC:Évènements pour Site de la commune de La Rouvière
BEGIN:VTIMEZONE
TZID:"Europe/Paris"
BEGIN:DAYLIGHT
TZOFFSETFROM:+0100
TZOFFSETTO:+0200
TZNAME:CEST
DTSTART:20210328T010000
END:DAYLIGHT
BEGIN:STANDARD
TZOFFSETFROM:+0200
TZOFFSETTO:+0100
TZNAME:CET
DTSTART:20211031T010000
END:STANDARD
END:VTIMEZONE
BEGIN:VEVENT
DTSTART;VALUE=DATE:20211112
DTEND;VALUE=DATE:20211113
DTSTAMP:20260422T092320
CREATED:20211105T120405Z
LAST-MODIFIED:20211105T120405Z
UID:3964-1636675200-1636761599@www.mairielarouviere.fr
SUMMARY:Fermeture de la mairie
DESCRIPTION:La mairie sera exceptionnellement fermée le vendredi 12 novembre 2021. \nRéouverture des services aux horaires habituels le lundi 15. \n
URL:https://www.mairielarouviere.fr/evenement/fermeture-de-la-mairie/
END:VEVENT
END:VCALENDAR