BEGIN:VCALENDAR
VERSION:2.0
PRODID:-//Site de la commune de La Rouvière - ECPv4.9.6//NONSGML v1.0//EN
CALSCALE:GREGORIAN
METHOD:PUBLISH
X-WR-CALNAME:Site de la commune de La Rouvière
X-ORIGINAL-URL:https://www.mairielarouviere.fr
X-WR-CALDESC:Évènements pour Site de la commune de La Rouvière
BEGIN:VTIMEZONE
TZID:"Europe/Paris"
BEGIN:DAYLIGHT
TZOFFSETFROM:+0100
TZOFFSETTO:+0200
TZNAME:CEST
DTSTART:20240331T010000
END:DAYLIGHT
BEGIN:STANDARD
TZOFFSETFROM:+0200
TZOFFSETTO:+0100
TZNAME:CET
DTSTART:20241027T010000
END:STANDARD
END:VTIMEZONE
BEGIN:VEVENT
DTSTART;VALUE=DATE:20241120
DTEND;VALUE=DATE:20241121
DTSTAMP:20260423T235014
CREATED:20241113T154346Z
LAST-MODIFIED:20241115T145953Z
UID:6263-1732060800-1732147199@www.mairielarouviere.fr
SUMMARY:Fermeture de la Déchèterie La Rouvière pour les déchets verts
DESCRIPTION:Information opération de broyage déchets verts – Déchèterie La Rouvière \nNous vous informons qu’une opération de broyage des déchets verts est prévue sur la déchèterie de LA ROUVIERE le mercredi 20 novembre 2024. \nPar conséquent\, la plateforme de stockage sera inaccessible et ne sera pas en mesure de recevoir de déchets verts durant la prestation. \n
URL:https://www.mairielarouviere.fr/evenement/6263/
END:VEVENT
END:VCALENDAR