BEGIN:VCALENDAR
VERSION:2.0
PRODID:-//Site de la commune de La Rouvière - ECPv4.9.6//NONSGML v1.0//EN
CALSCALE:GREGORIAN
METHOD:PUBLISH
X-WR-CALNAME:Site de la commune de La Rouvière
X-ORIGINAL-URL:https://www.mairielarouviere.fr
X-WR-CALDESC:Évènements pour Site de la commune de La Rouvière
BEGIN:VTIMEZONE
TZID:"Europe/Paris"
BEGIN:DAYLIGHT
TZOFFSETFROM:+0100
TZOFFSETTO:+0200
TZNAME:CEST
DTSTART:20250330T010000
END:DAYLIGHT
BEGIN:STANDARD
TZOFFSETFROM:+0200
TZOFFSETTO:+0100
TZNAME:CET
DTSTART:20251026T010000
END:STANDARD
END:VTIMEZONE
BEGIN:VEVENT
DTSTART;VALUE=DATE:20250319
DTEND;VALUE=DATE:20250321
DTSTAMP:20260423T152603
CREATED:20250316T182044Z
LAST-MODIFIED:20250316T182200Z
UID:6456-1742342400-1742515199@www.mairielarouviere.fr
SUMMARY:Travaux réfection enrobés - déchèterie de LA ROUVIERE
DESCRIPTION:Nous venons vous informer que des travaux de réfection des enrobés de la plateforme déchets verts de la déchèterie de LA ROUVIERE auront lieu entre le mardi 18 mars et le jeudi 20 mars inclus. La plateforme sera inaccessible sur la période. \n\n Les apports pourront être détournés sur la déchèterie de SAINTE-ANASTASIE durant la période. \n\n
URL:https://www.mairielarouviere.fr/evenement/6456/
END:VEVENT
END:VCALENDAR