BEGIN:VCALENDAR
VERSION:2.0
PRODID:-//Site de la commune de La Rouvière - ECPv4.9.6//NONSGML v1.0//EN
CALSCALE:GREGORIAN
METHOD:PUBLISH
X-WR-CALNAME:Site de la commune de La Rouvière
X-ORIGINAL-URL:https://www.mairielarouviere.fr
X-WR-CALDESC:Évènements pour Site de la commune de La Rouvière
BEGIN:VTIMEZONE
TZID:"Europe/Paris"
BEGIN:DAYLIGHT
TZOFFSETFROM:+0100
TZOFFSETTO:+0200
TZNAME:CEST
DTSTART:20200329T010000
END:DAYLIGHT
BEGIN:STANDARD
TZOFFSETFROM:+0200
TZOFFSETTO:+0100
TZNAME:CET
DTSTART:20201025T010000
END:STANDARD
END:VTIMEZONE
BEGIN:VEVENT
DTSTART;TZID="Europe/Paris":20200523T080000
DTEND;TZID="Europe/Paris":20200607T170000
DTSTAMP:20260423T113722
CREATED:20200523T193236Z
LAST-MODIFIED:20200523T193236Z
UID:2531-1590220800-1591549200@www.mairielarouviere.fr
SUMMARY:Campagne de renouvellement télèrelevé compteur d'eau
DESCRIPTION:Dans le cadre de la modernisation du service d’eau potable\, Eau Nîmes Métropole\, installe la télérelève dans la commune. \nCela permettra de lire les compteurs à distance et de transmettre les données de consommation par internet. \nCette campagne a commencé le 18 mai et devrait se poursuivre pendant au moins 15 jours\,  3 agents sont chargés des interventions sur la commune. Pour les clients qui ont leurs compteurs en propriétés\, et qui sont absents\, les agents laisseront un avis de passage\, avec le numéro de téléphone de l’agent afin que le client puisse rappeler notre agent pour un rdv \naffiche telereleve eau \npassage simple \n
URL:https://www.mairielarouviere.fr/evenement/campagne-de-renouvellement-telereleve-compteur-deau/
END:VEVENT
END:VCALENDAR