BEGIN:VCALENDAR
VERSION:2.0
PRODID:-//Site de la commune de La Rouvière - ECPv4.9.6//NONSGML v1.0//EN
CALSCALE:GREGORIAN
METHOD:PUBLISH
X-WR-CALNAME:Site de la commune de La Rouvière
X-ORIGINAL-URL:https://www.mairielarouviere.fr
X-WR-CALDESC:Évènements pour Site de la commune de La Rouvière
BEGIN:VTIMEZONE
TZID:"Europe/Paris"
BEGIN:DAYLIGHT
TZOFFSETFROM:+0100
TZOFFSETTO:+0200
TZNAME:CEST
DTSTART:20250330T010000
END:DAYLIGHT
BEGIN:STANDARD
TZOFFSETFROM:+0200
TZOFFSETTO:+0100
TZNAME:CET
DTSTART:20251026T010000
END:STANDARD
END:VTIMEZONE
BEGIN:VEVENT
DTSTART;TZID="Europe/Paris":20250120T080000
DTEND;TZID="Europe/Paris":20250124T170000
DTSTAMP:20260424T185416
CREATED:20250116T145144Z
LAST-MODIFIED:20250116T145144Z
UID:6354-1737360000-1737738000@www.mairielarouviere.fr
SUMMARY:Campagne de stérilisation des chats
DESCRIPTION: \n
URL:https://www.mairielarouviere.fr/evenement/campagne-de-sterilisation-des-chats/
END:VEVENT
END:VCALENDAR