BEGIN:VCALENDAR
VERSION:2.0
PRODID:-//Site de la commune de La Rouvière - ECPv4.9.6//NONSGML v1.0//EN
CALSCALE:GREGORIAN
METHOD:PUBLISH
X-WR-CALNAME:Site de la commune de La Rouvière
X-ORIGINAL-URL:https://www.mairielarouviere.fr
X-WR-CALDESC:Évènements pour Site de la commune de La Rouvière
BEGIN:VTIMEZONE
TZID:"Europe/Paris"
BEGIN:DAYLIGHT
TZOFFSETFROM:+0100
TZOFFSETTO:+0200
TZNAME:CEST
DTSTART:20210328T010000
END:DAYLIGHT
BEGIN:STANDARD
TZOFFSETFROM:+0200
TZOFFSETTO:+0100
TZNAME:CET
DTSTART:20211031T010000
END:STANDARD
END:VTIMEZONE
BEGIN:VEVENT
DTSTART;TZID="Europe/Paris":20211111T113000
DTEND;TZID="Europe/Paris":20211111T120000
DTSTAMP:20260423T075507
CREATED:20211105T120207Z
LAST-MODIFIED:20211105T120207Z
UID:3962-1636630200-1636632000@www.mairielarouviere.fr
SUMMARY:Cérémonie du 11 novembre 1918
DESCRIPTION:La cérémonie commémorative de l’armistice de 1918 aura lieu le jeudi 11 novembre 2021. Le rassemblement avec dépôt de gerbe est fixé à 11h30 devant le monument aux morts. \n
URL:https://www.mairielarouviere.fr/evenement/ceremonie-du-11-novembre-1918/
END:VEVENT
END:VCALENDAR