BEGIN:VCALENDAR
VERSION:2.0
PRODID:-//Site de la commune de La Rouvière - ECPv4.9.6//NONSGML v1.0//EN
CALSCALE:GREGORIAN
METHOD:PUBLISH
X-WR-CALNAME:Site de la commune de La Rouvière
X-ORIGINAL-URL:https://www.mairielarouviere.fr
X-WR-CALDESC:Évènements pour Site de la commune de La Rouvière
BEGIN:VTIMEZONE
TZID:"Europe/Paris"
BEGIN:DAYLIGHT
TZOFFSETFROM:+0100
TZOFFSETTO:+0200
TZNAME:CEST
DTSTART:20250330T010000
END:DAYLIGHT
BEGIN:STANDARD
TZOFFSETFROM:+0200
TZOFFSETTO:+0100
TZNAME:CET
DTSTART:20251026T010000
END:STANDARD
END:VTIMEZONE
BEGIN:VEVENT
DTSTART;TZID="Europe/Paris":20250518T150000
DTEND;TZID="Europe/Paris":20250518T170000
DTSTAMP:20260422T094103
CREATED:20250322T092509Z
LAST-MODIFIED:20250322T092509Z
UID:6482-1747580400-1747587600@www.mairielarouviere.fr
SUMMARY:Chorale des Grillons de Sauzet à l'église de La Rouvière
DESCRIPTION:Concert le dimanche 18 mai dans  l’église avec la Chorale des Grillons de Sauzet\, un grand moment de chant choral\, organisé par L’association Culture et Loisirs \n
URL:https://www.mairielarouviere.fr/evenement/chorale-des-grillons-de-sauzet-a-leglise-de-la-rouviere/
END:VEVENT
END:VCALENDAR