BEGIN:VCALENDAR
VERSION:2.0
PRODID:-//Site de la commune de La Rouvière - ECPv4.9.6//NONSGML v1.0//EN
CALSCALE:GREGORIAN
METHOD:PUBLISH
X-WR-CALNAME:Site de la commune de La Rouvière
X-ORIGINAL-URL:https://www.mairielarouviere.fr
X-WR-CALDESC:Évènements pour Site de la commune de La Rouvière
BEGIN:VTIMEZONE
TZID:"Europe/Paris"
BEGIN:DAYLIGHT
TZOFFSETFROM:+0100
TZOFFSETTO:+0200
TZNAME:CEST
DTSTART:20200329T010000
END:DAYLIGHT
BEGIN:STANDARD
TZOFFSETFROM:+0200
TZOFFSETTO:+0100
TZNAME:CET
DTSTART:20201025T010000
END:STANDARD
END:VTIMEZONE
BEGIN:VEVENT
DTSTART;TZID="Europe/Paris":20200712T220000
DTEND;TZID="Europe/Paris":20200712T233000
DTSTAMP:20260420T085907
CREATED:20200701T201951Z
LAST-MODIFIED:20200701T202036Z
UID:2706-1594591200-1594596600@www.mairielarouviere.fr
SUMMARY:Cinéma plein air à Saint Geniès de Malgoires
DESCRIPTION: \n
URL:https://www.mairielarouviere.fr/evenement/cinema-plein-air-a-saint-genies/
END:VEVENT
END:VCALENDAR