BEGIN:VCALENDAR
VERSION:2.0
PRODID:-//Site de la commune de La Rouvière - ECPv4.9.6//NONSGML v1.0//EN
CALSCALE:GREGORIAN
METHOD:PUBLISH
X-WR-CALNAME:Site de la commune de La Rouvière
X-ORIGINAL-URL:https://www.mairielarouviere.fr
X-WR-CALDESC:Évènements pour Site de la commune de La Rouvière
BEGIN:VTIMEZONE
TZID:"Europe/Paris"
BEGIN:DAYLIGHT
TZOFFSETFROM:+0100
TZOFFSETTO:+0200
TZNAME:CEST
DTSTART:20250330T010000
END:DAYLIGHT
BEGIN:STANDARD
TZOFFSETFROM:+0200
TZOFFSETTO:+0100
TZNAME:CET
DTSTART:20251026T010000
END:STANDARD
END:VTIMEZONE
BEGIN:VEVENT
DTSTART;TZID="Europe/Paris":20250729T220000
DTEND;TZID="Europe/Paris":20250729T233000
DTSTAMP:20260423T192144
CREATED:20250720T192238Z
LAST-MODIFIED:20250720T192238Z
UID:6718-1753826400-1753831800@www.mairielarouviere.fr
SUMMARY:Cinéma Plein Air Montagnac
DESCRIPTION:Action\, Espionnage\, Thriller\nDe Christopher McQuarrie\nPar Christopher McQuarrie\, Erik Jendresen\nAvec Tom Cruise\, Hayley Atwell\, Simon Pegg\nTitre original Mission: Impossible – The Final Reckoning \nTout public\nCe film est présenté en hors-compétition au Festival de Cannes 2025 \nNos vies sont la somme de nos choix. Tom Cruise est Ethan Hunt dans Mission: Impossible – The Final Reckoning. \nFoodtruck présente sur place à partir de 19h \n
URL:https://www.mairielarouviere.fr/evenement/cinema-plein-air-montagnac/
END:VEVENT
END:VCALENDAR