BEGIN:VCALENDAR
VERSION:2.0
PRODID:-//Site de la commune de La Rouvière - ECPv4.9.6//NONSGML v1.0//EN
CALSCALE:GREGORIAN
METHOD:PUBLISH
X-WR-CALNAME:Site de la commune de La Rouvière
X-ORIGINAL-URL:https://www.mairielarouviere.fr
X-WR-CALDESC:Évènements pour Site de la commune de La Rouvière
BEGIN:VTIMEZONE
TZID:"Europe/Paris"
BEGIN:DAYLIGHT
TZOFFSETFROM:+0100
TZOFFSETTO:+0200
TZNAME:CEST
DTSTART:20250330T010000
END:DAYLIGHT
BEGIN:STANDARD
TZOFFSETFROM:+0200
TZOFFSETTO:+0100
TZNAME:CET
DTSTART:20251026T010000
END:STANDARD
END:VTIMEZONE
BEGIN:VEVENT
DTSTART;TZID="Europe/Paris":20250723T220000
DTEND;TZID="Europe/Paris":20250723T233000
DTSTAMP:20260423T172347
CREATED:20250720T193052Z
LAST-MODIFIED:20250720T193052Z
UID:6729-1753308000-1753313400@www.mairielarouviere.fr
SUMMARY:Cinéma Plein Air Sauzet
DESCRIPTION: \nAventure\, Comédie\, Famille\, Science Fiction\nDe Dean Fleischer Camp\nPar Chris K.T. Bright\, Mike Van Waes\nAvec Emmanuel Garijo\, Chris Sanders\, Maia Kealoha \nTout public\nL’histoire touchante et drôle d’une petite fille hawaïenne solitaire et d’un extra-terrestre fugitif qui l’aide à renouer le lien avec sa famille. \nFoodtruck présente sur place à partir de 19h \n
URL:https://www.mairielarouviere.fr/evenement/cinema-plein-air-sauzet/
END:VEVENT
END:VCALENDAR