BEGIN:VCALENDAR
VERSION:2.0
PRODID:-//Site de la commune de La Rouvière - ECPv4.9.6//NONSGML v1.0//EN
CALSCALE:GREGORIAN
METHOD:PUBLISH
X-WR-CALNAME:Site de la commune de La Rouvière
X-ORIGINAL-URL:https://www.mairielarouviere.fr
X-WR-CALDESC:Évènements pour Site de la commune de La Rouvière
BEGIN:VTIMEZONE
TZID:"Europe/Paris"
BEGIN:DAYLIGHT
TZOFFSETFROM:+0100
TZOFFSETTO:+0200
TZNAME:CEST
DTSTART:20220327T010000
END:DAYLIGHT
BEGIN:STANDARD
TZOFFSETFROM:+0200
TZOFFSETTO:+0100
TZNAME:CET
DTSTART:20221030T010000
END:STANDARD
END:VTIMEZONE
BEGIN:VEVENT
DTSTART;TZID="Europe/Paris":20220101T050000
DTEND;TZID="Europe/Paris":20220101T080000
DTSTAMP:20260419T140022
CREATED:20211124T094423Z
LAST-MODIFIED:20211228T183704Z
UID:4000-1641013200-1641024000@www.mairielarouviere.fr
SUMMARY:Collecte des ordures ménagères---Déchèterie
DESCRIPTION:La DCTDM de Nîmes Métropole vous informe des modalités de collecte des déchets ménagers sur les prochains jours fériés concernés par une collecte sur votre commune en décembre 2021 et janvier 2022 :  \n  \n\nSamedi 25 décembre 2021 et samedi 1er janvier 2022 :  la collecte est annulée\nSamedi 1er janvier 2022 : la déchèterie de La Rouvière sera fermée\n\n  \n
URL:https://www.mairielarouviere.fr/evenement/collecte-des-ordures-menageres-est-annulee-2/
CATEGORIES:Gestion déchets
END:VEVENT
END:VCALENDAR