BEGIN:VCALENDAR
VERSION:2.0
PRODID:-//Site de la commune de La Rouvière - ECPv4.9.6//NONSGML v1.0//EN
CALSCALE:GREGORIAN
METHOD:PUBLISH
X-WR-CALNAME:Site de la commune de La Rouvière
X-ORIGINAL-URL:https://www.mairielarouviere.fr
X-WR-CALDESC:Évènements pour Site de la commune de La Rouvière
BEGIN:VTIMEZONE
TZID:"Europe/Paris"
BEGIN:DAYLIGHT
TZOFFSETFROM:+0100
TZOFFSETTO:+0200
TZNAME:CEST
DTSTART:20230326T010000
END:DAYLIGHT
BEGIN:STANDARD
TZOFFSETFROM:+0200
TZOFFSETTO:+0100
TZNAME:CET
DTSTART:20231029T010000
END:STANDARD
END:VTIMEZONE
BEGIN:VEVENT
DTSTART;TZID="Europe/Paris":20231031T190000
DTEND;TZID="Europe/Paris":20231031T210000
DTSTAMP:20260424T172316
CREATED:20231028T130522Z
LAST-MODIFIED:20231028T130522Z
UID:5426-1698778800-1698786000@www.mairielarouviere.fr
SUMMARY:Conseil Municipal
DESCRIPTION:Le conseil municipal se réunira le mardi 31 octobre à 19h dans la salle du conseil à la mairie. \n \n
URL:https://www.mairielarouviere.fr/evenement/conseil-municipal-13/
END:VEVENT
END:VCALENDAR