BEGIN:VCALENDAR
VERSION:2.0
PRODID:-//Site de la commune de La Rouvière - ECPv4.9.6//NONSGML v1.0//EN
CALSCALE:GREGORIAN
METHOD:PUBLISH
X-WR-CALNAME:Site de la commune de La Rouvière
X-ORIGINAL-URL:https://www.mairielarouviere.fr
X-WR-CALDESC:Évènements pour Site de la commune de La Rouvière
BEGIN:VTIMEZONE
TZID:"Europe/Paris"
BEGIN:DAYLIGHT
TZOFFSETFROM:+0100
TZOFFSETTO:+0200
TZNAME:CEST
DTSTART:20240331T010000
END:DAYLIGHT
BEGIN:STANDARD
TZOFFSETFROM:+0200
TZOFFSETTO:+0100
TZNAME:CET
DTSTART:20241027T010000
END:STANDARD
END:VTIMEZONE
BEGIN:VEVENT
DTSTART;TZID="Europe/Paris":20240404T190000
DTEND;TZID="Europe/Paris":20240404T210000
DTSTAMP:20260419T135919
CREATED:20240328T183832Z
LAST-MODIFIED:20240328T183832Z
UID:5818-1712257200-1712264400@www.mairielarouviere.fr
SUMMARY:Conseil Municipal
DESCRIPTION:Prochain Conseil Municipal  \njeudi 4 avril 2024 à 19h  \nOrdre du jour : \n\nApprobation compte gestion 2023\nVote compte administratif 2023\nVote taux contributions directes\nBudget primitif 2024\nInstauration prime pouvoir d’achat exceptionnelle\nConvention partenariat pour l’organisation\, la programmation et la mise en œuvre des traditions taurines pour 2024 entre Nîmes Métropole et la commune.\nPlan mobilité de Nîmes Métropole\nConvention de classification des réseaux et des voies du lotissement le chemin des écoliers avec la société foncière Bama et leur cession gratuite à la commune.\n\n
URL:https://www.mairielarouviere.fr/evenement/conseil-municipal-17/
END:VEVENT
END:VCALENDAR