BEGIN:VCALENDAR
VERSION:2.0
PRODID:-//Site de la commune de La Rouvière - ECPv4.9.6//NONSGML v1.0//EN
CALSCALE:GREGORIAN
METHOD:PUBLISH
X-WR-CALNAME:Site de la commune de La Rouvière
X-ORIGINAL-URL:https://www.mairielarouviere.fr
X-WR-CALDESC:Évènements pour Site de la commune de La Rouvière
BEGIN:VTIMEZONE
TZID:"Europe/Paris"
BEGIN:DAYLIGHT
TZOFFSETFROM:+0100
TZOFFSETTO:+0200
TZNAME:CEST
DTSTART:20240331T010000
END:DAYLIGHT
BEGIN:STANDARD
TZOFFSETFROM:+0200
TZOFFSETTO:+0100
TZNAME:CET
DTSTART:20241027T010000
END:STANDARD
END:VTIMEZONE
BEGIN:VEVENT
DTSTART;TZID="Europe/Paris":20240910T190000
DTEND;TZID="Europe/Paris":20240910T210000
DTSTAMP:20260423T015248
CREATED:20240826T124446Z
LAST-MODIFIED:20240826T124446Z
UID:6112-1725994800-1726002000@www.mairielarouviere.fr
SUMMARY:Conseil Municipal
DESCRIPTION:
URL:https://www.mairielarouviere.fr/evenement/conseil-municipal-19/
END:VEVENT
END:VCALENDAR