BEGIN:VCALENDAR
VERSION:2.0
PRODID:-//Site de la commune de La Rouvière - ECPv4.9.6//NONSGML v1.0//EN
CALSCALE:GREGORIAN
METHOD:PUBLISH
X-WR-CALNAME:Site de la commune de La Rouvière
X-ORIGINAL-URL:https://www.mairielarouviere.fr
X-WR-CALDESC:Évènements pour Site de la commune de La Rouvière
BEGIN:VTIMEZONE
TZID:"Europe/Paris"
BEGIN:DAYLIGHT
TZOFFSETFROM:+0100
TZOFFSETTO:+0200
TZNAME:CEST
DTSTART:20240331T010000
END:DAYLIGHT
BEGIN:STANDARD
TZOFFSETFROM:+0200
TZOFFSETTO:+0100
TZNAME:CET
DTSTART:20241027T010000
END:STANDARD
END:VTIMEZONE
BEGIN:VEVENT
DTSTART;TZID="Europe/Paris":20241203T190000
DTEND;TZID="Europe/Paris":20241203T210000
DTSTAMP:20260424T073427
CREATED:20241127T184536Z
LAST-MODIFIED:20241127T184536Z
UID:6294-1733252400-1733259600@www.mairielarouviere.fr
SUMMARY:Conseil Municipal
DESCRIPTION: \n
URL:https://www.mairielarouviere.fr/evenement/conseil-municipal-21/
END:VEVENT
END:VCALENDAR