BEGIN:VCALENDAR
VERSION:2.0
PRODID:-//Site de la commune de La Rouvière - ECPv4.9.6//NONSGML v1.0//EN
CALSCALE:GREGORIAN
METHOD:PUBLISH
X-WR-CALNAME:Site de la commune de La Rouvière
X-ORIGINAL-URL:https://www.mairielarouviere.fr
X-WR-CALDESC:Évènements pour Site de la commune de La Rouvière
BEGIN:VTIMEZONE
TZID:"Europe/Paris"
BEGIN:DAYLIGHT
TZOFFSETFROM:+0100
TZOFFSETTO:+0200
TZNAME:CEST
DTSTART:20220327T010000
END:DAYLIGHT
BEGIN:STANDARD
TZOFFSETFROM:+0200
TZOFFSETTO:+0100
TZNAME:CET
DTSTART:20221030T010000
END:STANDARD
END:VTIMEZONE
BEGIN:VEVENT
DTSTART;TZID="Europe/Paris":20220107T204500
DTEND;TZID="Europe/Paris":20220107T220000
DTSTAMP:20260419T122306
CREATED:20210820T210413Z
LAST-MODIFIED:20210820T210413Z
UID:3838-1641588300-1641592800@www.mairielarouviere.fr
SUMMARY:CONTES POUR PENSER A RIRE ET RIRE A PENSER » - THEATRE - Saint Bauzély
DESCRIPTION:SOIREE CONTES\n \n« CONTES POUR PENSER A RIRE ET RIRE A PENSER » \nPeps Production \nTHEATRE – CONTE \n  \nGriot\, pédagogue\, clown\, jongleur\, barde\, poète\, bouffon\, trouvère\, ménestrel et voleur de poules ; Eric Derrien partagera avec vous des histoires vieilles comme le monde qui nous parlent d’amitié\, de tolérance mais aussi de jalousies\, de colères\, des histoires qui nous parlent de nous….. \n  \nDe et Avec Eric Derrien \nTout Public \nDurée 1h10 \nProgramme  \n
URL:https://www.mairielarouviere.fr/evenement/contes-pour-penser-a-rire-et-rire-a-penser-theatre-saint-bauzely/
END:VEVENT
END:VCALENDAR