BEGIN:VCALENDAR
VERSION:2.0
PRODID:-//Site de la commune de La Rouvière - ECPv4.9.6//NONSGML v1.0//EN
CALSCALE:GREGORIAN
METHOD:PUBLISH
X-WR-CALNAME:Site de la commune de La Rouvière
X-ORIGINAL-URL:https://www.mairielarouviere.fr
X-WR-CALDESC:Évènements pour Site de la commune de La Rouvière
BEGIN:VTIMEZONE
TZID:"Europe/Paris"
BEGIN:DAYLIGHT
TZOFFSETFROM:+0100
TZOFFSETTO:+0200
TZNAME:CEST
DTSTART:20210328T010000
END:DAYLIGHT
BEGIN:STANDARD
TZOFFSETFROM:+0200
TZOFFSETTO:+0100
TZNAME:CET
DTSTART:20211031T010000
END:STANDARD
END:VTIMEZONE
BEGIN:VEVENT
DTSTART;TZID="Europe/Paris":20210330T090000
DTEND;TZID="Europe/Paris":20210330T120000
DTSTAMP:20260419T222735
CREATED:20210322T212155Z
LAST-MODIFIED:20210322T212155Z
UID:3450-1617094800-1617105600@www.mairielarouviere.fr
SUMMARY:Coupure courant pour travaux
DESCRIPTION:Afin d’améliorer la qualité de la distribution électrique\, ENEDIS réalisera des travaux sur le réseau électrique pouvant entrainer des coupures de coutant le  \nmardi 30 mars 2021 de 9h à 12h rue Jean Moulin \n
URL:https://www.mairielarouviere.fr/evenement/coupure-courant-pour-travaux/
END:VEVENT
END:VCALENDAR