BEGIN:VCALENDAR
VERSION:2.0
PRODID:-//Site de la commune de La Rouvière - ECPv4.9.6//NONSGML v1.0//EN
CALSCALE:GREGORIAN
METHOD:PUBLISH
X-WR-CALNAME:Site de la commune de La Rouvière
X-ORIGINAL-URL:https://www.mairielarouviere.fr
X-WR-CALDESC:Évènements pour Site de la commune de La Rouvière
BEGIN:VTIMEZONE
TZID:"Europe/Paris"
BEGIN:DAYLIGHT
TZOFFSETFROM:+0100
TZOFFSETTO:+0200
TZNAME:CEST
DTSTART:20230326T010000
END:DAYLIGHT
BEGIN:STANDARD
TZOFFSETFROM:+0200
TZOFFSETTO:+0100
TZNAME:CET
DTSTART:20231029T010000
END:STANDARD
END:VTIMEZONE
BEGIN:VEVENT
DTSTART;TZID="Europe/Paris":20231218T090000
DTEND;TZID="Europe/Paris":20231218T120000
DTSTAMP:20260424T091413
CREATED:20231212T134732Z
LAST-MODIFIED:20231212T134732Z
UID:5508-1702890000-1702900800@www.mairielarouviere.fr
SUMMARY:Coupures du courant pour travaux
DESCRIPTION:    QUARTIERS : \n \n \n
URL:https://www.mairielarouviere.fr/evenement/coupures-du-courant-pour-travaux/
END:VEVENT
END:VCALENDAR