BEGIN:VCALENDAR
VERSION:2.0
PRODID:-//Site de la commune de La Rouvière - ECPv4.9.6//NONSGML v1.0//EN
CALSCALE:GREGORIAN
METHOD:PUBLISH
X-WR-CALNAME:Site de la commune de La Rouvière
X-ORIGINAL-URL:https://www.mairielarouviere.fr
X-WR-CALDESC:Évènements pour Site de la commune de La Rouvière
BEGIN:VTIMEZONE
TZID:"Europe/Paris"
BEGIN:DAYLIGHT
TZOFFSETFROM:+0100
TZOFFSETTO:+0200
TZNAME:CEST
DTSTART:20240331T010000
END:DAYLIGHT
BEGIN:STANDARD
TZOFFSETFROM:+0200
TZOFFSETTO:+0100
TZNAME:CET
DTSTART:20241027T010000
END:STANDARD
END:VTIMEZONE
BEGIN:VEVENT
DTSTART;VALUE=DATE:20240617
DTEND;VALUE=DATE:20240618
DTSTAMP:20260422T131218
CREATED:20240607T103643Z
LAST-MODIFIED:20240607T103900Z
UID:5989-1718582400-1718668799@www.mairielarouviere.fr
SUMMARY:Espace Ados Leins Gardonnenque : Inscription activités de l'été 2024
DESCRIPTION:\nInscriptions pour les activités :\nDate de début : Lundi 17 juin \n\n\n\nModalités :\nPar mail à leinsados@gmail.com\nPar téléphone 06.34.52.40.91\nDirectement à l’espace jeunes selon les horaires suivants : \nMardis\, jeudis et vendredis de 16h à 18h30\nMercredis et samedis de 14h à 19h \nContact : Pour toute information complémentaire\, vous pouvez nous joindre au 06 34 52 40 91. \n===>https://www.mairielarouviere.fr/espace-jeunes-leins-gardonnenque/ \n  \n\n
URL:https://www.mairielarouviere.fr/evenement/espace-ados-leins-gardonnenque-inscription-activites-de-lete-2024/
END:VEVENT
END:VCALENDAR