BEGIN:VCALENDAR
VERSION:2.0
PRODID:-//Site de la commune de La Rouvière - ECPv4.9.6//NONSGML v1.0//EN
CALSCALE:GREGORIAN
METHOD:PUBLISH
X-WR-CALNAME:Site de la commune de La Rouvière
X-ORIGINAL-URL:https://www.mairielarouviere.fr
X-WR-CALDESC:Évènements pour Site de la commune de La Rouvière
BEGIN:VTIMEZONE
TZID:"Europe/Paris"
BEGIN:DAYLIGHT
TZOFFSETFROM:+0100
TZOFFSETTO:+0200
TZNAME:CEST
DTSTART:20240331T010000
END:DAYLIGHT
BEGIN:STANDARD
TZOFFSETFROM:+0200
TZOFFSETTO:+0100
TZNAME:CET
DTSTART:20241027T010000
END:STANDARD
END:VTIMEZONE
BEGIN:VEVENT
DTSTART;VALUE=DATE:20240108
DTEND;VALUE=DATE:20240109
DTSTAMP:20260424T055506
CREATED:20240105T101717Z
LAST-MODIFIED:20240105T101717Z
UID:5570-1704672000-1704758399@www.mairielarouviere.fr
SUMMARY:Fermeture de la Déchèterie
DESCRIPTION:Nous vous informons qu’une opération de broyage des déchets verts est prévue sur la déchèterie de LA ROUVIERE le lundi 8 janvier 2024.\n \nPar conséquent\, la plateforme de stockage sera inaccessible et nous ne serons pas en mesure de recevoir de déchets verts durant la prestation.\n \n\nMerci de votre compréhension. \n\n
URL:https://www.mairielarouviere.fr/evenement/fermeture-de-la-decheterie-2/
END:VEVENT
END:VCALENDAR