BEGIN:VCALENDAR
VERSION:2.0
PRODID:-//Site de la commune de La Rouvière - ECPv4.9.6//NONSGML v1.0//EN
CALSCALE:GREGORIAN
METHOD:PUBLISH
X-WR-CALNAME:Site de la commune de La Rouvière
X-ORIGINAL-URL:https://www.mairielarouviere.fr
X-WR-CALDESC:Évènements pour Site de la commune de La Rouvière
BEGIN:VTIMEZONE
TZID:"Europe/Paris"
BEGIN:DAYLIGHT
TZOFFSETFROM:+0100
TZOFFSETTO:+0200
TZNAME:CEST
DTSTART:20240331T010000
END:DAYLIGHT
BEGIN:STANDARD
TZOFFSETFROM:+0200
TZOFFSETTO:+0100
TZNAME:CET
DTSTART:20241027T010000
END:STANDARD
END:VTIMEZONE
BEGIN:VEVENT
DTSTART;VALUE=DATE:20241022
DTEND;VALUE=DATE:20241023
DTSTAMP:20260423T120232
CREATED:20241017T141047Z
LAST-MODIFIED:20241017T141217Z
UID:6215-1729555200-1729641599@www.mairielarouviere.fr
SUMMARY:Fermeture de la Déchèterie La Rouvière pour les déchets verts
DESCRIPTION:Information opération de broyage déchets verts – Déchèterie La Rouvière \nNous vous informons qu’une opération de broyage des déchets verts est prévue sur la déchèterie de LA ROUVIERE le mardi 22 octobre 2024. \nPar conséquent\, la plateforme de stockage sera inaccessible et ne sera pas en mesure de recevoir de déchets verts durant la prestation. \n
URL:https://www.mairielarouviere.fr/evenement/fermeture-de-la-decheterie-la-rouviere-pour-les-dechets-verts-7/
END:VEVENT
END:VCALENDAR