BEGIN:VCALENDAR
VERSION:2.0
PRODID:-//Site de la commune de La Rouvière - ECPv4.9.6//NONSGML v1.0//EN
CALSCALE:GREGORIAN
METHOD:PUBLISH
X-WR-CALNAME:Site de la commune de La Rouvière
X-ORIGINAL-URL:https://www.mairielarouviere.fr
X-WR-CALDESC:Évènements pour Site de la commune de La Rouvière
BEGIN:VTIMEZONE
TZID:"Europe/Paris"
BEGIN:DAYLIGHT
TZOFFSETFROM:+0100
TZOFFSETTO:+0200
TZNAME:CEST
DTSTART:20210328T010000
END:DAYLIGHT
BEGIN:STANDARD
TZOFFSETFROM:+0200
TZOFFSETTO:+0100
TZNAME:CET
DTSTART:20211031T010000
END:STANDARD
END:VTIMEZONE
BEGIN:VEVENT
DTSTART;TZID="Europe/Paris":20211224T120000
DTEND;TZID="Europe/Paris":20211224T180000
DTSTAMP:20260419T172924
CREATED:20211130T200913Z
LAST-MODIFIED:20211130T200913Z
UID:4008-1640347200-1640368800@www.mairielarouviere.fr
SUMMARY:Fermeture exceptionnelle de la déchèterie de La Rouvière
DESCRIPTION:La DCTDM de Nîmes Métropole vous informe de la fermeture exceptionnelle de la déchèterie de La Rouvière le vendredi 24 décembre 2021 après-midi. \nLa déchèterie sera ouverte le matin de 8h30 à 12h. \n
URL:https://www.mairielarouviere.fr/evenement/fermeture-exceptionnelle-de-la-decheterie-de-la-rouviere/
END:VEVENT
END:VCALENDAR